BEGIN:VCALENDAR
VERSION:2.0
PRODID:-//Ayuntamiento de Lodosa - ECPv6.15.20//NONSGML v1.0//EN
CALSCALE:GREGORIAN
METHOD:PUBLISH
X-WR-CALNAME:Ayuntamiento de Lodosa
X-ORIGINAL-URL:https://www.lodosa.es
X-WR-CALDESC:Eventos para Ayuntamiento de Lodosa
REFRESH-INTERVAL;VALUE=DURATION:PT1H
X-Robots-Tag:noindex
X-PUBLISHED-TTL:PT1H
BEGIN:VTIMEZONE
TZID:Europe/Madrid
BEGIN:DAYLIGHT
TZOFFSETFROM:+0100
TZOFFSETTO:+0200
TZNAME:CEST
DTSTART:20240331T010000
END:DAYLIGHT
BEGIN:STANDARD
TZOFFSETFROM:+0200
TZOFFSETTO:+0100
TZNAME:CET
DTSTART:20241027T010000
END:STANDARD
BEGIN:DAYLIGHT
TZOFFSETFROM:+0100
TZOFFSETTO:+0200
TZNAME:CEST
DTSTART:20250330T010000
END:DAYLIGHT
BEGIN:STANDARD
TZOFFSETFROM:+0200
TZOFFSETTO:+0100
TZNAME:CET
DTSTART:20251026T010000
END:STANDARD
BEGIN:DAYLIGHT
TZOFFSETFROM:+0100
TZOFFSETTO:+0200
TZNAME:CEST
DTSTART:20260329T010000
END:DAYLIGHT
BEGIN:STANDARD
TZOFFSETFROM:+0200
TZOFFSETTO:+0100
TZNAME:CET
DTSTART:20261025T010000
END:STANDARD
END:VTIMEZONE
BEGIN:VEVENT
DTSTART;TZID=Europe/Madrid:20250509T183000
DTEND;TZID=Europe/Madrid:20250509T213000
DTSTAMP:20260421T224409
CREATED:20250405T085557Z
LAST-MODIFIED:20250405T085557Z
UID:29564-1746815400-1746826200@www.lodosa.es
SUMMARY:II Feria RuralFest 2025
DESCRIPTION:Se celebrarán en Lodosa\, Altsasua-Altsasu\, Ribaforada y Murillo el Fruto\, y está dirigida a personas emprendedoras y asociaciones locales menores de 40 años que quieran dar a conocer sus proyectos. \nSi piensas que vivir en el entorno rural es una opción de futuro llena de ventajas y oportunidades\, ¡este evento es para ti! \nSerá una gran oportunidad para promover ideas locales\, conocer a otras personas emprendedoras y\, por supuesto\, disfrutar de un día diferente. \n\n¿Qué incluye? Stand gratuito (plazas limitadas). • Degustación de productos locales. • Talleres y actividades • DJ y actuación en vivo.\n\nINSCRIPCIONES: 🔗 formulario de inscripción \nPuedes participar en tantos RuralFest Navarros como quieras\, ¡hay 4 el mes de mayo! \nEste evento es parte de un proyecto de cooperación de los Grupos de Acción Local de Navarra con el objetivo de resignificar la vida rural y potenciar las oportunidades que ofrece nuestro entorno.
URL:https://www.lodosa.es/evento/ii-feria-ruralfest-2025/
LOCATION:Paseo (Plaza de España)\, Plaza de España s/n\, Lodosa\, Navarra\, 31580\, España
CATEGORIES:2025,Promoción & Desarrollo
ATTACH;FMTTYPE=image/jpeg:https://www.lodosa.es/wp-content/uploads/2025/04/FeriaRuralFest.jpg
ORGANIZER;CN="TEDER- Tierra Estella Desarrollo Rural":MAILTO:teder@montejurra.com
END:VEVENT
BEGIN:VEVENT
DTSTART;TZID=Europe/Madrid:20250530T100000
DTEND;TZID=Europe/Madrid:20250530T130000
DTSTAMP:20260421T224409
CREATED:20250523T185224Z
LAST-MODIFIED:20250523T185525Z
UID:29789-1748599200-1748610000@www.lodosa.es
SUMMARY:LodoSa Viva!
DESCRIPTION:Conservar lo nuestro\, cultivar lo nuevo\nUn territorio con historia que se mueve\, que late\, que se renueva\n\n10:00 Bienvenida \n\nLaura Remírez\, alcaldesa de Lodosa\n\n10:15 Origen de una denominación \n\nJesús Aguirre\, presidente de la D.O Pimiento del Piquillo de Lodosa\nJosé María Aierdi\, Consejero de Desarrollo Rural\n\n10:30 Mesa redonda: Relevos generacionales en la industria agroalimentaria \n11:30 Café descanso \n12:00 Nuevos rostros del emprendimiento en Lodosa \n13:00 Clausura \n\nPablo Ezcurra\, director general de Comercio
URL:https://www.lodosa.es/evento/lodosa-viva/
LOCATION:Casa de Cultura de Lodosa\, Avda. Ribera 41\, Lodosa\, Navarra\, 31580\, España
CATEGORIES:2025,Otros/Varios,Promoción & Desarrollo
ATTACH;FMTTYPE=image/jpeg:https://www.lodosa.es/wp-content/uploads/2025/05/Lodosa-Viva-2025.jpeg
END:VEVENT
END:VCALENDAR