BEGIN:VCALENDAR
VERSION:2.0
PRODID:-//Ayuntamiento de Lodosa - ECPv6.15.20//NONSGML v1.0//EN
CALSCALE:GREGORIAN
METHOD:PUBLISH
X-ORIGINAL-URL:https://www.lodosa.es
X-WR-CALDESC:Eventos para Ayuntamiento de Lodosa
REFRESH-INTERVAL;VALUE=DURATION:PT1H
X-Robots-Tag:noindex
X-PUBLISHED-TTL:PT1H
BEGIN:VTIMEZONE
TZID:Europe/Madrid
BEGIN:DAYLIGHT
TZOFFSETFROM:+0100
TZOFFSETTO:+0200
TZNAME:CEST
DTSTART:20230326T010000
END:DAYLIGHT
BEGIN:STANDARD
TZOFFSETFROM:+0200
TZOFFSETTO:+0100
TZNAME:CET
DTSTART:20231029T010000
END:STANDARD
BEGIN:DAYLIGHT
TZOFFSETFROM:+0100
TZOFFSETTO:+0200
TZNAME:CEST
DTSTART:20240331T010000
END:DAYLIGHT
BEGIN:STANDARD
TZOFFSETFROM:+0200
TZOFFSETTO:+0100
TZNAME:CET
DTSTART:20241027T010000
END:STANDARD
BEGIN:DAYLIGHT
TZOFFSETFROM:+0100
TZOFFSETTO:+0200
TZNAME:CEST
DTSTART:20250330T010000
END:DAYLIGHT
BEGIN:STANDARD
TZOFFSETFROM:+0200
TZOFFSETTO:+0100
TZNAME:CET
DTSTART:20251026T010000
END:STANDARD
END:VTIMEZONE
BEGIN:VEVENT
DTSTART;VALUE=DATE:20241004
DTEND;VALUE=DATE:20241005
DTSTAMP:20260422T095931
CREATED:20240924T142222Z
LAST-MODIFIED:20240924T162841Z
UID:28642-1728000000-1728086399@www.lodosa.es
SUMMARY:XIV EXALTACIÓN / viernes 4 octubre
DESCRIPTION:18.15 horas\, Visita casa Palacio.\n19.30 horas\,  Maridaje de productos Denominación de Origen y Reyno Gourmet con Vinos DO Navarra. Plazuela (la localización podrá variar por inclemencias meteorológicas) venta de entradas en la oficina de Desarrollo Local y Turismo. Precio 8.00 euros. (a partir del viernes 27 de septiembre)\n\n 
URL:https://www.lodosa.es/evento/exaltacion-viernes/
LOCATION:Casa Palacio de la Plazuela\, Plazuela\, 4\, Lodosa\, Navarra\, 31580\, España
CATEGORIES:2024,Exaltación Piquillo de Lodosa,Otoño,Otros/Varios,Para Todos los Públicos,Promoción & Desarrollo
ATTACH;FMTTYPE=image/jpeg:https://www.lodosa.es/wp-content/uploads/2024/09/Exalta24_Cartel.jpg
END:VEVENT
BEGIN:VEVENT
DTSTART;TZID=Europe/Madrid:20241004T193000
DTEND;TZID=Europe/Madrid:20241004T210000
DTSTAMP:20260422T095931
CREATED:20240924T150744Z
LAST-MODIFIED:20240925T121212Z
UID:28650-1728070200-1728075600@www.lodosa.es
SUMMARY:XIV EXALTACIÓN / Maridaje de productos Denominación de Origen y Reyno Gourmet con Vinos DO Navarra.
DESCRIPTION:
URL:https://www.lodosa.es/evento/exaltacion-maridaje/
LOCATION:Casa Palacio de la Plazuela\, Plazuela\, 4\, Lodosa\, Navarra\, 31580\, España
CATEGORIES:2024,Exaltación Piquillo de Lodosa,Otoño,Otros/Varios,Para Todos los Públicos,Promoción & Desarrollo
ATTACH;FMTTYPE=image/jpeg:https://www.lodosa.es/wp-content/uploads/2024/09/ExaltaRRSS_Cata_OK.jpg
END:VEVENT
BEGIN:VEVENT
DTSTART;VALUE=DATE:20241005
DTEND;VALUE=DATE:20241006
DTSTAMP:20260422T095931
CREATED:20240924T162714Z
LAST-MODIFIED:20240924T162714Z
UID:28653-1728086400-1728172799@www.lodosa.es
SUMMARY:XIV EXALTACIÓN / sábado 5 octubre
DESCRIPTION:EN EL PASEO\n\n\n10.00-15.00h. Feria del Pimiento del Piquillo de Lodosa. Venta de pimientos DO Piquillo de Lodosa de agricultores locales y gastronomía navarra.\n\nDegustación de Pimientos del Piquillo de Lodosa\, ofrecida por Conservas Pedro Luis con la colaboración de “Amas de Casa”.\n\n\n11.00-13.00h. La Comparsa de gigantes de Lodosa y gaiteros\, recorrerán las calles de la localidad.\n12.00h. En el quiosco\, Pinta-caras para los más pequeños.\n12.45h.Recibimiento de la Banda municipal de Lodosa a las autoridades en el Ayuntamiento.\n13.00h. Pasacalles con la Banda municipal de Lodosa (BML) \n\nEN LA FINCA\n\n\n12.00h. Entrega del VIII PIQUILLO DE PLATA\, a Julian Iantzi Mitxelena (presentador de televisión) Lugar: huerta. (Solo con invitación / aforo reducido)\n\n \n[su_box title=»SORTEO: ‘TU PESO EN ORO ROJO» box_color=»#dd3333″] \n\nQuienes adquieran productos en la Feria recibirán un ticket para el sorteo de “Tu peso en Pimientos del Piquillo de Lodosa” .\nLos tickets para el sorteo se depositarán en la urna que estará ubicada en el stand de la Denominación de Origen Piquillo de Lodosa.\n\n[/su_box] \n 
URL:https://www.lodosa.es/evento/exaltacion-sabado/
LOCATION:MUNICIPIO DE LODOSA [Varias localizaciones]\, Lodosa\, Navarra\, 31580\, España
CATEGORIES:2024,Exaltación Piquillo de Lodosa,Otoño,Otros/Varios,Para Todos los Públicos,Promoción & Desarrollo
ATTACH;FMTTYPE=image/jpeg:https://www.lodosa.es/wp-content/uploads/2024/09/Exalta24_Cartel.jpg
END:VEVENT
BEGIN:VEVENT
DTSTART;VALUE=DATE:20241006
DTEND;VALUE=DATE:20241007
DTSTAMP:20260422T095931
CREATED:20240924T163025Z
LAST-MODIFIED:20240924T163025Z
UID:28654-1728172800-1728259199@www.lodosa.es
SUMMARY:XIV EXALTACIÓN / domingo 6 octubre
DESCRIPTION:10.00 horas Open de Otoño XCO “IX Trofeo Pimiento del Piquillo de Lodosa“ Circuito C/ Calvario\, 1.\n10.00-15.00 horas Venta de pimientos DO Piquillo de Lodosa de agricultores locales.\n12.00 horas Actividad Gratuita Teatro infantil Kamishibai Reyno Gourmet “Amaia y Martin en la fiesta de la verdura” Lugar: Sala de Usos Múltiples.\n17.30 horas Toro con soga desde la Plaza de Toros\n\n  \n 
URL:https://www.lodosa.es/evento/exaltacion-domingo/
LOCATION:Inicio
CATEGORIES:2024,Exaltación Piquillo de Lodosa,Otoño,Otros/Varios,Para Todos los Públicos,Promoción & Desarrollo
ATTACH;FMTTYPE=image/jpeg:https://www.lodosa.es/wp-content/uploads/2024/09/Exalta24_Cartel.jpg
END:VEVENT
END:VCALENDAR