BEGIN:VCALENDAR
VERSION:2.0
PRODID:-//Ayuntamiento de Lodosa - ECPv6.15.20//NONSGML v1.0//EN
CALSCALE:GREGORIAN
METHOD:PUBLISH
X-WR-CALNAME:Ayuntamiento de Lodosa
X-ORIGINAL-URL:https://www.lodosa.es
X-WR-CALDESC:Eventos para Ayuntamiento de Lodosa
REFRESH-INTERVAL;VALUE=DURATION:PT1H
X-Robots-Tag:noindex
X-PUBLISHED-TTL:PT1H
BEGIN:VTIMEZONE
TZID:Europe/Madrid
BEGIN:DAYLIGHT
TZOFFSETFROM:+0100
TZOFFSETTO:+0200
TZNAME:CEST
DTSTART:20240331T010000
END:DAYLIGHT
BEGIN:STANDARD
TZOFFSETFROM:+0200
TZOFFSETTO:+0100
TZNAME:CET
DTSTART:20241027T010000
END:STANDARD
BEGIN:DAYLIGHT
TZOFFSETFROM:+0100
TZOFFSETTO:+0200
TZNAME:CEST
DTSTART:20250330T010000
END:DAYLIGHT
BEGIN:STANDARD
TZOFFSETFROM:+0200
TZOFFSETTO:+0100
TZNAME:CET
DTSTART:20251026T010000
END:STANDARD
BEGIN:DAYLIGHT
TZOFFSETFROM:+0100
TZOFFSETTO:+0200
TZNAME:CEST
DTSTART:20260329T010000
END:DAYLIGHT
BEGIN:STANDARD
TZOFFSETFROM:+0200
TZOFFSETTO:+0100
TZNAME:CET
DTSTART:20261025T010000
END:STANDARD
END:VTIMEZONE
BEGIN:VEVENT
DTSTART;VALUE=DATE:20250731
DTEND;VALUE=DATE:20250801
DTSTAMP:20260421T030645
CREATED:20250718T065340Z
LAST-MODIFIED:20250720T151838Z
UID:27776-1753920000-1754006399@www.lodosa.es
SUMMARY:Patronales25 / Jueves 31
DESCRIPTION:08:30\n\nDIANAS a cargo de la txaranga ABURRECALLES llevándonos hasta la Plaza de Toros.\n\n09:00\n\nPRIMER ENCIERRO con novillos-toros de la ganadería de José Antonio Baigorri “Pincha”.\n\n10:00\n\nALMUERZO POPULAR Y PARTIDOS DE EXHIBICIÓN DE PELOTA A MANO en el frontón\, colabora el Club de Pelota “San Francisco de Javier”.\n\n12:00\n\nMISA SOLEMNE en honor a nuestros patronos San Emeterio y San Celedonio. Asistirán el Ayuntamiento y autoridades en compañía de la Comparsa de Gigantes y Cabezudos y la Banda Municipal de Música.\n\n13:00\n\nEn el Paseo\, CONCIERTO de la Banda Municipal de Música.\n\n15:00\n\nPOCHADA POPULAR en La Plazuela. Patrocina “Conservas Pedro Luis” y organiza “Peña La Plazuela”. \nAl finalizar II CONCURSO DE COCKTAILS.\n\n18:15\n\nSubida a la Plaza de Toros en compañía de la Banda Municipal de Música.\n\n18:30\n\nNOVILLADA PICADA con reses de José Antonio Baigorri “Pincha”.\nAl finalizar ENCIERRO TXIKI con Vacas Avileñas (novillas no bravas) desde la Plaza de Toros.\n\n19:30\n\nEn La Plazuela PRESBICIA y ALOPECIA GENITAL organizado por “Peña La Plazuela”.\n\n21:00\n\nCONCIERTO en el Paseo a cargo de la orquesta “NUEVA ERA”.\n\n22:00\n\nTORO DE FUEGO desde la Plaza de La Cruz.\n\n22:30\n\nFUEGOS ARTIFICIALES. En el Medianil\, quema de una gran colección de fuegos artificiales a cargo de LA SUREÑA.\n\n00:00\n\nEn la Plazuela TXT F2F MYKE EASY organizado por “Peña La Plazuela”.\n\n00:30\n\nVERBENA con la orquesta “NUEVA ERA”. En el intermedio y al final\, pasacalles con la txaranga ABURRECALLES.\n\n  \n\nNOTA: Los eventos marcados en azul son organizados por colectivos ajenos al Ayuntamiento de Lodosa
URL:https://www.lodosa.es/evento/patronales25-jueves-31/
LOCATION:MUNICIPIO DE LODOSA [Varias localizaciones]\, Lodosa\, Navarra\, 31580\, España
CATEGORIES:2025,Adulto,Fiestas Patronales,Juvenil,Juventud,Verano
ATTACH;FMTTYPE=image/jpeg:https://www.lodosa.es/wp-content/uploads/2024/07/Patronales_31_.jpg
ORGANIZER;CN="Ayuntamiento de Lodosa - Comisi%C3%B3n de Festejos":MAILTO:festejos@lodosa.es
END:VEVENT
END:VCALENDAR