BEGIN:VCALENDAR
VERSION:2.0
PRODID:-//Ayuntamiento de Lodosa - ECPv6.15.20//NONSGML v1.0//EN
CALSCALE:GREGORIAN
METHOD:PUBLISH
X-WR-CALNAME:Ayuntamiento de Lodosa
X-ORIGINAL-URL:https://www.lodosa.es
X-WR-CALDESC:Eventos para Ayuntamiento de Lodosa
REFRESH-INTERVAL;VALUE=DURATION:PT1H
X-Robots-Tag:noindex
X-PUBLISHED-TTL:PT1H
BEGIN:VTIMEZONE
TZID:Europe/Madrid
BEGIN:DAYLIGHT
TZOFFSETFROM:+0100
TZOFFSETTO:+0200
TZNAME:CEST
DTSTART:20240331T010000
END:DAYLIGHT
BEGIN:STANDARD
TZOFFSETFROM:+0200
TZOFFSETTO:+0100
TZNAME:CET
DTSTART:20241027T010000
END:STANDARD
BEGIN:DAYLIGHT
TZOFFSETFROM:+0100
TZOFFSETTO:+0200
TZNAME:CEST
DTSTART:20250330T010000
END:DAYLIGHT
BEGIN:STANDARD
TZOFFSETFROM:+0200
TZOFFSETTO:+0100
TZNAME:CET
DTSTART:20251026T010000
END:STANDARD
BEGIN:DAYLIGHT
TZOFFSETFROM:+0100
TZOFFSETTO:+0200
TZNAME:CEST
DTSTART:20260329T010000
END:DAYLIGHT
BEGIN:STANDARD
TZOFFSETFROM:+0200
TZOFFSETTO:+0100
TZNAME:CET
DTSTART:20261025T010000
END:STANDARD
END:VTIMEZONE
BEGIN:VEVENT
DTSTART;VALUE=DATE:20250730
DTEND;VALUE=DATE:20250731
DTSTAMP:20260418T022419
CREATED:20250718T065339Z
LAST-MODIFIED:20250720T151911Z
UID:27777-1753833600-1753919999@www.lodosa.es
SUMMARY:Patronales25 / Miércoles 30
DESCRIPTION:11:00\n\nEn la Residencia\, la Corporación Municipal visitará a nuestras personas mayores.\n\n11:30\n\nEn los Portales del Ayuntamiento\, reparto de ZURRACAPOTE. Elaborado a la manera tradicional y servido por la sociedad gastronómica “La Soga”. (Servido a mayores de 18 años)\n\n12:00\n\nDesde el balcón del Ayuntamiento\, TXUPINAZO. Disparo del cohete anunciador del inicio de las fiestas. A continuación\, la Banda Municipal de Música la Comparsa de Gigantes y Cabezudos y la Txaranga Aburrecalles recorrerán las calles de Lodosa en las primeras horas de las fiestas.\n\n14:00\n\nEn La Plazuela TXUPINAZOFEST\, invitado especial ANGEL DEEP. Organizado por “Peña La Plazuela”.\n\n16:00\n\nXXXVII CAMPEONATO RELÁMPAGO DE MUS. Organizado por Casino “La Peña”. Inscripciones en el mismo Casino.\n\n18:30\n\nRIAU-RIAU. La Banda Municipal de Música y la Comparsa de Gigantes y Cabezudos acompañarán a la Corporación desde el Ayuntamiento hasta la Iglesia Parroquial.\n\n19:00\n\nEn la Iglesia Parroquial VÍSPERAS\, con asistencia del Ayuntamiento y autoridades\, en honor a nuestros patronos San Emeterio y San Celedonio.\n\n20:30\n\nPELOTA en el Frontón Municipal. (Ver carteles)\n\n20:30\n\nEn la calle Mayor TOROS DE FANTASÍA de la Peña “Lodosa por el Toro”.\n\n21:00\n\nCONCIERTO en el Paseo\, con la orquesta “NUEVA ETAPA”.\n\n22:00\n\nTORO DE FUEGO desde la Plaza de La Cruz.\n\n00:30\n\nVERBENA con la orquesta “NUEVA ETAPA”. En el intermedio (sobre las 02:30) y al final\, pasacalles con la txaranga ABURRECALLES.\n\n\nNOTA: Los eventos marcados en azul son organizados por colectivos ajenos al Ayuntamiento de Lodosa
URL:https://www.lodosa.es/evento/patronales25-miercoles-30/
LOCATION:MUNICIPIO DE LODOSA [Varias localizaciones]\, Lodosa\, Navarra\, 31580\, España
CATEGORIES:2025,Adulto,Fiestas Patronales,Juvenil,Juventud,Verano
ATTACH;FMTTYPE=image/jpeg:https://www.lodosa.es/wp-content/uploads/2024/07/Patronales_30-1.jpg
ORGANIZER;CN="Ayuntamiento de Lodosa - Comisi%C3%B3n de Festejos":MAILTO:festejos@lodosa.es
END:VEVENT
BEGIN:VEVENT
DTSTART;TZID=Europe/Madrid:20250730T203000
DTEND;TZID=Europe/Madrid:20250730T203000
DTSTAMP:20260418T022419
CREATED:20240702T183225Z
LAST-MODIFIED:20250716T172031Z
UID:27731-1753907400-1753907400@www.lodosa.es
SUMMARY:Patronales25 / Pelota a Mano
DESCRIPTION:1º Partido\n\nELIZALDE – AZPIROZ vs IRIBARREN – CUAIRAN\n  \n2º Partido\n\nETXEBARRIA II – ITURRIAGA vs VICTOR – MERINO II\n  \n\n\n\n\nCOMPRAR ENTRADAS
URL:https://www.lodosa.es/evento/patronales25-pelota-a-mano/
LOCATION:Frontón Municipal San Francisco Javier\, C/ Centro Parroquial s/n\, Lodosa\, Navarra\, 31580\, España
CATEGORIES:2025,Fiestas Patronales,Para Todos los Públicos,Pelota,Verano
ATTACH;FMTTYPE=image/jpeg:https://www.lodosa.es/wp-content/uploads/2024/07/Cartel_Pelota.jpg
END:VEVENT
END:VCALENDAR