BEGIN:VCALENDAR
VERSION:2.0
PRODID:-//Ayuntamiento de Lodosa - ECPv6.15.20//NONSGML v1.0//EN
CALSCALE:GREGORIAN
METHOD:PUBLISH
X-WR-CALNAME:Ayuntamiento de Lodosa
X-ORIGINAL-URL:https://www.lodosa.es
X-WR-CALDESC:Eventos para Ayuntamiento de Lodosa
REFRESH-INTERVAL;VALUE=DURATION:PT1H
X-Robots-Tag:noindex
X-PUBLISHED-TTL:PT1H
BEGIN:VTIMEZONE
TZID:Europe/Madrid
BEGIN:DAYLIGHT
TZOFFSETFROM:+0100
TZOFFSETTO:+0200
TZNAME:CEST
DTSTART:20240331T010000
END:DAYLIGHT
BEGIN:STANDARD
TZOFFSETFROM:+0200
TZOFFSETTO:+0100
TZNAME:CET
DTSTART:20241027T010000
END:STANDARD
BEGIN:DAYLIGHT
TZOFFSETFROM:+0100
TZOFFSETTO:+0200
TZNAME:CEST
DTSTART:20250330T010000
END:DAYLIGHT
BEGIN:STANDARD
TZOFFSETFROM:+0200
TZOFFSETTO:+0100
TZNAME:CET
DTSTART:20251026T010000
END:STANDARD
BEGIN:DAYLIGHT
TZOFFSETFROM:+0100
TZOFFSETTO:+0200
TZNAME:CEST
DTSTART:20260329T010000
END:DAYLIGHT
BEGIN:STANDARD
TZOFFSETFROM:+0200
TZOFFSETTO:+0100
TZNAME:CET
DTSTART:20261025T010000
END:STANDARD
END:VTIMEZONE
BEGIN:VEVENT
DTSTART;TZID=Europe/Madrid:20250727T113000
DTEND;TZID=Europe/Madrid:20250727T123000
DTSTAMP:20260415T004143
CREATED:20250717T155755Z
LAST-MODIFIED:20250722T182420Z
UID:30047-1753615800-1753619400@www.lodosa.es
SUMMARY:Patronales25 / Imposición Primer Pañuelo
DESCRIPTION:A las 11:30 en los Porches del Ayuntamiento\, entrega del pañuelico de bienvenida a las criaturas nacidas entre las fiestas del 2024 y las del 2025
URL:https://www.lodosa.es/evento/patronales25-imposicion-primer-panuelo/
LOCATION:Ayuntamiento de Lodosa (Porches)\, Ancha 1\, LODOSA\, Navarra\, 31580\, España
CATEGORIES:2025,Fiestas Patronales
ATTACH;FMTTYPE=image/jpeg:https://www.lodosa.es/wp-content/uploads/2025/07/Patronales_Panuelo.jpg
ORGANIZER;CN="Ayuntamiento de Lodosa - Comisi%C3%B3n de Festejos":MAILTO:festejos@lodosa.es
END:VEVENT
END:VCALENDAR