BEGIN:VCALENDAR
VERSION:2.0
PRODID:-//Ayuntamiento de Lodosa - ECPv6.15.20//NONSGML v1.0//EN
CALSCALE:GREGORIAN
METHOD:PUBLISH
X-WR-CALNAME:Ayuntamiento de Lodosa
X-ORIGINAL-URL:https://www.lodosa.es
X-WR-CALDESC:Eventos para Ayuntamiento de Lodosa
REFRESH-INTERVAL;VALUE=DURATION:PT1H
X-Robots-Tag:noindex
X-PUBLISHED-TTL:PT1H
BEGIN:VTIMEZONE
TZID:Europe/Madrid
BEGIN:DAYLIGHT
TZOFFSETFROM:+0100
TZOFFSETTO:+0200
TZNAME:CEST
DTSTART:20250330T010000
END:DAYLIGHT
BEGIN:STANDARD
TZOFFSETFROM:+0200
TZOFFSETTO:+0100
TZNAME:CET
DTSTART:20251026T010000
END:STANDARD
BEGIN:DAYLIGHT
TZOFFSETFROM:+0100
TZOFFSETTO:+0200
TZNAME:CEST
DTSTART:20260329T010000
END:DAYLIGHT
BEGIN:STANDARD
TZOFFSETFROM:+0200
TZOFFSETTO:+0100
TZNAME:CET
DTSTART:20261025T010000
END:STANDARD
BEGIN:DAYLIGHT
TZOFFSETFROM:+0100
TZOFFSETTO:+0200
TZNAME:CEST
DTSTART:20270328T010000
END:DAYLIGHT
BEGIN:STANDARD
TZOFFSETFROM:+0200
TZOFFSETTO:+0100
TZNAME:CET
DTSTART:20271031T010000
END:STANDARD
END:VTIMEZONE
BEGIN:VEVENT
DTSTART;TZID=Europe/Madrid:20260130T213000
DTEND;TZID=Europe/Madrid:20260130T213000
DTSTAMP:20260421T152214
CREATED:20260114T191606Z
LAST-MODIFIED:20260114T191757Z
UID:31010-1769808600-1769808600@www.lodosa.es
SUMMARY:SAN BLAS 2026 / TRIBUTO A LOS PANCHOS "Si tú me dices ven"
DESCRIPTION:Propuesta artística en riguroso directo llena de emoción y elegancia\, donde las canciones inolvidables del trío Los Panchos cobran vida\nPresentado y dirigido por Nacho de la Rosa\, excepcional guitarrista\, que durante años acompañó a La Gran Dama de la Canción\, María Dolores Pradera\, se presenta este elenco de músicos y vocalistas\, expertos del bolero\, ofreciendo al público una experiencia única y enriquecedora y que siempre deja una huella imborrable en los corazones de todos los públicos.. \n\n\n\nCOMPRAR ENTRADAS
URL:https://www.lodosa.es/evento/san-blas-2026-tributo-a-los-panchos/
LOCATION:Auditorio [Casa de Cultura]\, Av. de la Ribera 41\, Lodosa\, Navarra\, 31580\, España
CATEGORIES:2026,Conciertos,Espectáculo,Familiar,Invierno,San Blas
ATTACH;FMTTYPE=image/jpeg:https://www.lodosa.es/wp-content/uploads/2026/01/Panchos-1.jpg
ORGANIZER;CN="Ayuntamiento de Lodosa - Servicio de Cultura // CASA DE CULTURA":MAILTO:cultura@lodosa.es
END:VEVENT
END:VCALENDAR