BEGIN:VCALENDAR
VERSION:2.0
PRODID:-//Ayuntamiento de Lodosa - ECPv6.15.20//NONSGML v1.0//EN
CALSCALE:GREGORIAN
METHOD:PUBLISH
X-ORIGINAL-URL:https://www.lodosa.es
X-WR-CALDESC:Eventos para Ayuntamiento de Lodosa
REFRESH-INTERVAL;VALUE=DURATION:PT1H
X-Robots-Tag:noindex
X-PUBLISHED-TTL:PT1H
BEGIN:VTIMEZONE
TZID:Europe/Madrid
BEGIN:DAYLIGHT
TZOFFSETFROM:+0100
TZOFFSETTO:+0200
TZNAME:CEST
DTSTART:20240331T010000
END:DAYLIGHT
BEGIN:STANDARD
TZOFFSETFROM:+0200
TZOFFSETTO:+0100
TZNAME:CET
DTSTART:20241027T010000
END:STANDARD
BEGIN:DAYLIGHT
TZOFFSETFROM:+0100
TZOFFSETTO:+0200
TZNAME:CEST
DTSTART:20250330T010000
END:DAYLIGHT
BEGIN:STANDARD
TZOFFSETFROM:+0200
TZOFFSETTO:+0100
TZNAME:CET
DTSTART:20251026T010000
END:STANDARD
BEGIN:DAYLIGHT
TZOFFSETFROM:+0100
TZOFFSETTO:+0200
TZNAME:CEST
DTSTART:20260329T010000
END:DAYLIGHT
BEGIN:STANDARD
TZOFFSETFROM:+0200
TZOFFSETTO:+0100
TZNAME:CET
DTSTART:20261025T010000
END:STANDARD
END:VTIMEZONE
BEGIN:VEVENT
DTSTART;TZID=Europe/Madrid:20251229T100000
DTEND;TZID=Europe/Madrid:20251229T133000
DTSTAMP:20260421T172333
CREATED:20251122T122817Z
LAST-MODIFIED:20251214T163721Z
UID:30835-1767002400-1767015000@www.lodosa.es
SUMMARY:Campamento CODI 9 / 12 años - Castellano & Euskera
DESCRIPTION:¿Qué es CODI?\nCODI es un programa de formación en competencias digitales para niñas\, niños y adolescentes desde los 9 hasta los 18 años\, promovido por el Ministerio de Juventud e Infancia y financiado por los fondos europeos Next Generation EU a través del mecanismo de Recuperación\, Transformación y Resiliencia. \n¿Cuál es el objetivo del programa CODI?\nCombatir la brecha social digital dotando de competencias digitales básicas a niñas y niños dando prioridad al alumnado en situación de vulnerabilidad. \nCampamento CODI en invierno\nLos contenidos serán adaptados al formato y basados en conceptos y juegos dirigidos a conseguir un buen uso de las tecnologías por parte de los y las más pequeñas. Además\, existen tres modalidades de campamento: de 9 a 12 años\, de 13 a 14 y de 15 en adelante. \nHabrá un descanso de veinte minutos en los campamentos en los que los niños y niñas podrán almorzar y jugar\, por lo que se recomienda traer almuerzo y un botellín de agua. \n\nPlanificación de las sesiones:\n\nFechas: 22\, 23\, 29 y 30 de diciembre (lunes y martes)\n\nHorarios:\n\nDe 10:00 a 12:00 horas\, sesión\nDe 12:00 a 12:30 horas\, recreo\nDe 12:30 a 13:30 horas\, sesión\n\nIdioma: 1 grupo en castellano / 1 grupo en euskera\nINSCRIPCIONES: desde aquí
URL:https://www.lodosa.es/evento/campamento-codi-9-12-anos-castellano-euskera_2912/
LOCATION:Casa de Cultura de Lodosa\, Avda. Ribera 41\, Lodosa\, Navarra\, 31580\, España
CATEGORIES:2025,Formación,Infantil,Invierno,Navidad,Taller
ATTACH;FMTTYPE=image/jpeg:https://www.lodosa.es/wp-content/uploads/2025/11/CODI_low.jpg
ORGANIZER;CN="CNAI":MAILTO:info@cnai.es
END:VEVENT
BEGIN:VEVENT
DTSTART;TZID=Europe/Madrid:20251229T163000
DTEND;TZID=Europe/Madrid:20251229T193000
DTSTAMP:20260421T172333
CREATED:20251122T125648Z
LAST-MODIFIED:20251214T163721Z
UID:30844-1767025800-1767036600@www.lodosa.es
SUMMARY:Campamento CODI 13 / 14 años - Castellano & Euskera
DESCRIPTION:¿Qué es CODI?\nCODI es un programa de formación en competencias digitales para niñas\, niños y adolescentes desde los 9 hasta los 18 años\, promovido por el Ministerio de Juventud e Infancia y financiado por los fondos europeos Next Generation EU a través del mecanismo de Recuperación\, Transformación y Resiliencia. \n¿Cuál es el objetivo del programa CODI?\nCombatir la brecha social digital dotando de competencias digitales básicas a niñas y niños dando prioridad al alumnado en situación de vulnerabilidad. \nCampamento CODI en invierno\nLos contenidos serán adaptados al formato y basados en conceptos y juegos dirigidos a conseguir un buen uso de las tecnologías por parte de los y las más pequeñas. Además\, existen tres modalidades de campamento: de 9 a 12 años\, de 13 a 14 y de 15 en adelante. \nHabrá un descanso de veinte minutos en los campamentos en los que los niños y niñas podrán almorzar y jugar\, por lo que se recomienda traer almuerzo y un botellín de agua. \n\nPlanificación de las sesiones:\n\nFechas: 22\, 23\, 29 y 30 de diciembre (lunes y martes)\n\nHorarios:\n\nDe 16:00 a 18:00 horas\, sesión\nDe 18:00 a 18:30 horas\, recreo\nDe 18:30 a 19:30 horas\, sesión\n\nIdioma: 1 grupo en castellano / 1 grupo en euskera\nINSCRIPCIONES: desde aquí
URL:https://www.lodosa.es/evento/campamento-codi-13-14-anos-castellano-euskera_2912/
LOCATION:Casa de Cultura de Lodosa\, Avda. Ribera 41\, Lodosa\, Navarra\, 31580\, España
CATEGORIES:2025,Formación,Infantil,Invierno,Navidad,Taller
ATTACH;FMTTYPE=image/jpeg:https://www.lodosa.es/wp-content/uploads/2025/11/CODI_2_low.jpg
ORGANIZER;CN="CNAI":MAILTO:info@cnai.es
END:VEVENT
BEGIN:VEVENT
DTSTART;TZID=Europe/Madrid:20251229T183000
DTEND;TZID=Europe/Madrid:20251229T183000
DTSTAMP:20260421T172333
CREATED:20251206T082513Z
LAST-MODIFIED:20251214T163721Z
UID:30871-1767033000-1767033000@www.lodosa.es
SUMMARY:MAGIA / PEDRO III presenta 'La Magia de la Navidad'
DESCRIPTION:ESPECTÁCULO DE MAGIA PARA PÚBLICO FAMILIAR (niños/as a partir de 4 años) y PÚBLICO ADULTO\nSe trata de una propuesta tierna y amable; diseñada para que el público pueda disfrutar en familia con una experiencia emotiva\, inolvidable\, y llena de sorpresas. Un viaje emocional que te transportará al lugar de donde viene la verdadera magia. \nIMAGINA: «Una noche estrellada dentro del teatro\, con Pedro III como maestro de ceremonias y su increíble equipo de «Coleccionistas de Recuerdos». Juntos haremos un viaje lleno de historias fascinantes\, sorpresas visuales\, magia interactiva\, risas contagiosas y momentos únicos que dejarán a todos los espectadores con la boca abierta». \n\nOriginales efectos mágicos se entrelazan con la narrativa de una Navidad especial en la que los regalos aparecen de la nada\, los deseos se hacen realidad y el espíritu navideño hace brillar nuestra luz interior.\n«La Magia de la Navidad» es una novedosa experiencia que compartir con los tuyos\, una aventura mágica que todos recordarán durante años. Los más pequeños quedarán fascinados con historias asombrosas\, mientras que los adultos redescubrirán la emoción de la Navidad hecha realidad a través de los ojos de sus seres más queridos.\nVen al teatro y no dejes pasar la oportunidad de formar parte de este entrañable cuento navideño hecho realidad. Tienes al alcance de tu mano lo que estabas buscando: la oportunidad perfecta para crear esos recuerdos mágicos que permanecerán en vuestros corazones para siempre.\nUna tarde mágica muy especial llena de alegría\, asombro y un toque de misterio que evocará la fascinación por lo imposible. Reserva tu entrada y prepárate para vivir la experiencia que iluminará vuestros corazones.\n\n\n\n\nCOMPRAR ENTRADAS
URL:https://www.lodosa.es/evento/pedro-iii-presenta-la-magia-de-la-navidad/
LOCATION:Auditorio [Casa de Cultura]\, Av. de la Ribera 41\, Lodosa\, Navarra\, 31580\, España
CATEGORIES:2025,Adulto,Cultura,Exposiciones,Familiar,Infantil,Invierno,Juvenil,Magia,Navidad,Para Todos los Públicos
ATTACH;FMTTYPE=image/jpeg:https://www.lodosa.es/wp-content/uploads/2025/12/PedroIII.jpg
ORGANIZER;CN="Ayuntamiento de Lodosa - Servicio de Cultura // CASA DE CULTURA":MAILTO:cultura@lodosa.es
END:VEVENT
END:VCALENDAR