BEGIN:VCALENDAR
VERSION:2.0
PRODID:-//Ayuntamiento de Lodosa - ECPv6.15.20//NONSGML v1.0//EN
CALSCALE:GREGORIAN
METHOD:PUBLISH
X-ORIGINAL-URL:https://www.lodosa.es
X-WR-CALDESC:Eventos para Ayuntamiento de Lodosa
REFRESH-INTERVAL;VALUE=DURATION:PT1H
X-Robots-Tag:noindex
X-PUBLISHED-TTL:PT1H
BEGIN:VTIMEZONE
TZID:Europe/Madrid
BEGIN:DAYLIGHT
TZOFFSETFROM:+0100
TZOFFSETTO:+0200
TZNAME:CEST
DTSTART:20250330T010000
END:DAYLIGHT
BEGIN:STANDARD
TZOFFSETFROM:+0200
TZOFFSETTO:+0100
TZNAME:CET
DTSTART:20251026T010000
END:STANDARD
BEGIN:DAYLIGHT
TZOFFSETFROM:+0100
TZOFFSETTO:+0200
TZNAME:CEST
DTSTART:20260329T010000
END:DAYLIGHT
BEGIN:STANDARD
TZOFFSETFROM:+0200
TZOFFSETTO:+0100
TZNAME:CET
DTSTART:20261025T010000
END:STANDARD
BEGIN:DAYLIGHT
TZOFFSETFROM:+0100
TZOFFSETTO:+0200
TZNAME:CEST
DTSTART:20270328T010000
END:DAYLIGHT
BEGIN:STANDARD
TZOFFSETFROM:+0200
TZOFFSETTO:+0100
TZNAME:CET
DTSTART:20271031T010000
END:STANDARD
END:VTIMEZONE
BEGIN:VEVENT
DTSTART;TZID=Europe/Madrid:20260301T190000
DTEND;TZID=Europe/Madrid:20260301T190000
DTSTAMP:20260421T122209
CREATED:20260221T171418Z
LAST-MODIFIED:20260221T171418Z
UID:31225-1772391600-1772391600@www.lodosa.es
SUMMARY:Yllana presenta 'MADNESS'
DESCRIPTION:Prepárate para una experiencia teatral única\, salvaje y sorprendente. «Madness» es el nuevo delirio escénico de Yllana\, en colaboración con los increíbles The Primitals\, donde la comedia gestual más explosiva se une a las voces a capela más impactantes.\n\nUn psiquiátrico. Cuatro pacientes. Una historia disparatada que mezcla humor\, crítica\, virtuosismo vocal y momentos absolutamente absurdos… ¡pero brillantes!\n“Madness” es un viaje a la locura más divertida\, con una puesta en escena afilada\, original y absolutamente adictiva.\n\n\n\n\nCOMPRAR ENTRADAS\n\n\n\n  \n 
URL:https://www.lodosa.es/evento/yllana-presenta-madness/
LOCATION:Auditorio [Casa de Cultura]\, Av. de la Ribera 41\, Lodosa\, Navarra\, 31580\, España
CATEGORIES:2026,Adulto,Espectáculo,Invierno,Musical,Teatro
ATTACH;FMTTYPE=image/jpeg:https://www.lodosa.es/wp-content/uploads/2026/02/Yllana_Madness.jpg
ORGANIZER;CN="Ayuntamiento de Lodosa - Servicio de Cultura // CASA DE CULTURA":MAILTO:cultura@lodosa.es
END:VEVENT
BEGIN:VEVENT
DTSTART;TZID=Europe/Madrid:20260308T190000
DTEND;TZID=Europe/Madrid:20260308T190000
DTSTAMP:20260421T122209
CREATED:20260302T153513Z
LAST-MODIFIED:20260302T153513Z
UID:31254-1772996400-1772996400@www.lodosa.es
SUMMARY:8M / CONCIERTO / MAL _ TRATO
DESCRIPTION:MAL-TRATO es un espectáculo poético-musical que entrelaza música\, teatro y narración en un viaje emocional sobre las voces silenciadas de las mujeres.\nA través de un variado repertorio de canciones que beben del jazz\, de la canción de autor ó temas contemporáneos como los de Rozalén\, damos forma escénica al grito contenido\, a la resistencia silenciosa\, al despertar.\nEs un concierto íntimo\, teatral y conmovedor\, con fuerza estética y conciencia social\, que no solo emociona\, sino que deja una huella reflexiva.\nLa historia no se cuenta\, se canta\, se respira\, se transforma en escena. \n\nEstitxu Castellano : Voz. dirección y dramaturgia.\nAlba Etxarri : piano\, narración y atrezzo.\nJavi Martínez Giralda: saxo\, flauta travesera\, percusión\, sonido e iluminación.\n\n\n\n\nCOMPRAR ENTRADAS
URL:https://www.lodosa.es/evento/concierto-mal_trato/
LOCATION:Auditorio [Casa de Cultura]\, Av. de la Ribera 41\, Lodosa\, Navarra\, 31580\, España
CATEGORIES:2026,Conciertos,Espectáculo,Invierno,Para Todos los Públicos
ATTACH;FMTTYPE=image/jpeg:https://www.lodosa.es/wp-content/uploads/2026/03/Mal_Trato.jpg
ORGANIZER;CN="Ayuntamiento de Lodosa - Servicio de Cultura // CASA DE CULTURA":MAILTO:cultura@lodosa.es
END:VEVENT
BEGIN:VEVENT
DTSTART;TZID=Europe/Madrid:20260315T173000
DTEND;TZID=Europe/Madrid:20260315T193000
DTSTAMP:20260421T122209
CREATED:20260302T155741Z
LAST-MODIFIED:20260302T155741Z
UID:31262-1773595800-1773603000@www.lodosa.es
SUMMARY:MAGIA / Mago HODEI presenta '3 ELEMENTOS – UNA EXPERIENCIA MÁGICA INMERSIVA'
DESCRIPTION:Lejos de los espectáculos tradicionales\, el Mago Hodei nos presenta una experiencia mágica inmersiva nunca antes vista\, donde cada instante es único y cada detalle está cuidadosamente diseñado para que el público se convierta en el protagonista de un viaje multisensorial.\nEn un espacio reducido\, lejos de las multitudes\, la magia no solo se ve… se siente. En este ambiente íntimo y rodeado 360 grados\, el ilusionista revelará los 3 Elementos que han marcado el camino hacia lo que somos hoy\, mostrándonos cómo pueden inspirar nuestro propio recorrido\, en un encuentro donde la magia se entrelaza con historias y emociones.\nAún no conoces los 3 Elementos… pero una vez los experimentes\, no los olvidarás. \n\nPúblico a partir de 7 años\, familiar\, juvenil y adultos.\nAforo muy reducido!!!\nTres pases: 17:30 / 18:30 / 19:30\n\n\n\n\nCOMPRAR ENTRADAS\n\n\n\n 
URL:https://www.lodosa.es/evento/mago-hodei-presenta-3-elementos/
LOCATION:Auditorio [Casa de Cultura]\, Av. de la Ribera 41\, Lodosa\, Navarra\, 31580\, España
CATEGORIES:2026,Adulto,Espectáculo,Familiar,Infantil,Invierno,Juvenil,Magia,Para Todos los Públicos
ATTACH;FMTTYPE=image/jpeg:https://www.lodosa.es/wp-content/uploads/2026/03/MagoHodei.jpg
ORGANIZER;CN="Ayuntamiento de Lodosa - Servicio de Cultura // CASA DE CULTURA":MAILTO:cultura@lodosa.es
END:VEVENT
BEGIN:VEVENT
DTSTART;TZID=Europe/Madrid:20260322T183000
DTEND;TZID=Europe/Madrid:20260322T183000
DTSTAMP:20260421T122209
CREATED:20260304T190002Z
LAST-MODIFIED:20260304T190122Z
UID:31331-1774204200-1774204200@www.lodosa.es
SUMMARY:ESPECTÁCULO FAMILIAR / Cía Teatros Mágicos presenta 'EL VENDEDOR DE JABÓN'
DESCRIPTION:Nuestra historia comienza a las afueras de un pequeño bosque de Francia en el siglo XVI.\nEn este bosque vivía un joven vendedor de jabón en una pequeña y lúgubre cabaña. Una noche una gran tormenta sorprendió a nuestro vendedor de jabón que poco a poco con el uso de su imaginación descubrió cómo hacer pompas de jabón. Un espectáculo de una hora de duración con pompas de vapor\, de colores\, con humo\, de más de 3 metros\,… \nUn espectáculo que sorprenderá tanto a adultos como a niños/as.\nPúblico a partir de 4 años. \n\n\n\nCOMPRAR ENTRADAS
URL:https://www.lodosa.es/evento/cia-teatros-magicos-presenta-el-vendedor-de-jabon/
LOCATION:Auditorio [Casa de Cultura]\, Av. de la Ribera 41\, Lodosa\, Navarra\, 31580\, España
CATEGORIES:2026,Espectáculo,Infantil,Invierno,Para Todos los Públicos,San Blas
ATTACH;FMTTYPE=image/jpeg:https://www.lodosa.es/wp-content/uploads/2026/03/VendedorDeJabon.jpg
ORGANIZER;CN="Ayuntamiento de Lodosa - Servicio de Cultura // CASA DE CULTURA":MAILTO:cultura@lodosa.es
END:VEVENT
BEGIN:VEVENT
DTSTART;TZID=Europe/Madrid:20260328T183000
DTEND;TZID=Europe/Madrid:20260328T183000
DTSTAMP:20260421T122209
CREATED:20260322T173038Z
LAST-MODIFIED:20260322T173106Z
UID:31398-1774722600-1774722600@www.lodosa.es
SUMMARY:CONCIERTO / BANDA MUNICIPAL DE MÚSICA DE LODOSA / Concierto Procesiones
DESCRIPTION:
URL:https://www.lodosa.es/evento/concierto-bml-procesiones/
LOCATION:Auditorio [Casa de Cultura]\, Av. de la Ribera 41\, Lodosa\, Navarra\, 31580\, España
CATEGORIES:2026,Conciertos,Para Todos los Públicos,Semana Santa,Verano
ATTACH;FMTTYPE=image/jpeg:https://www.lodosa.es/wp-content/uploads/2026/03/BML_SemanaSanta.jpg
END:VEVENT
BEGIN:VEVENT
DTSTART;TZID=Europe/Madrid:20260329T190000
DTEND;TZID=Europe/Madrid:20260329T190000
DTSTAMP:20260421T122209
CREATED:20260304T190548Z
LAST-MODIFIED:20260304T190548Z
UID:31337-1774810800-1774810800@www.lodosa.es
SUMMARY:TEATRO / Txalo presenta 'ESCAPE ROOM'
DESCRIPTION:Dos parejas de amigos de toda la vida\, quedan para hacer un Escape Room en un barrio\, donde recientemente se ha encontrado\, en un contenedor\, el cadáver de un hombre descuartizado…\nLos cuatro amigos se piensan que les espera un juego divertido para pasar el rato\, poner a prueba su inteligencia y reír un poco. Pero en cuanto la puerta de la habitación se cierra herméticamente y empieza la cuenta atrás\, empiezan a pasar cosas extrañas. Salir de aquel «escape room» no será nada fácil\, y el juego se convertirá en un infierno que pondrá a prueba su amistad hasta límites insospechados. Aunque no lo parezca esto es una comedia… ¡una comedia de miedo! \n\n\n\nCOMPRAR ENTRADAS
URL:https://www.lodosa.es/evento/txalo-presenta-escape-room/
LOCATION:Auditorio [Casa de Cultura]\, Av. de la Ribera 41\, Lodosa\, Navarra\, 31580\, España
CATEGORIES:2026,Adulto,Primavera,Teatro
ATTACH;FMTTYPE=image/jpeg:https://www.lodosa.es/wp-content/uploads/2026/03/EscapeRoom.jpg
ORGANIZER;CN="Ayuntamiento de Lodosa - Servicio de Cultura // CASA DE CULTURA":MAILTO:cultura@lodosa.es
END:VEVENT
END:VCALENDAR