BEGIN:VCALENDAR
VERSION:2.0
PRODID:-//Ayuntamiento de Lodosa - ECPv6.15.20//NONSGML v1.0//EN
CALSCALE:GREGORIAN
METHOD:PUBLISH
X-WR-CALNAME:Ayuntamiento de Lodosa
X-ORIGINAL-URL:https://www.lodosa.es
X-WR-CALDESC:Eventos para Ayuntamiento de Lodosa
REFRESH-INTERVAL;VALUE=DURATION:PT1H
X-Robots-Tag:noindex
X-PUBLISHED-TTL:PT1H
BEGIN:VTIMEZONE
TZID:Europe/Madrid
BEGIN:DAYLIGHT
TZOFFSETFROM:+0100
TZOFFSETTO:+0200
TZNAME:CEST
DTSTART:20250330T010000
END:DAYLIGHT
BEGIN:STANDARD
TZOFFSETFROM:+0200
TZOFFSETTO:+0100
TZNAME:CET
DTSTART:20251026T010000
END:STANDARD
BEGIN:DAYLIGHT
TZOFFSETFROM:+0100
TZOFFSETTO:+0200
TZNAME:CEST
DTSTART:20260329T010000
END:DAYLIGHT
BEGIN:STANDARD
TZOFFSETFROM:+0200
TZOFFSETTO:+0100
TZNAME:CET
DTSTART:20261025T010000
END:STANDARD
BEGIN:DAYLIGHT
TZOFFSETFROM:+0100
TZOFFSETTO:+0200
TZNAME:CEST
DTSTART:20270328T010000
END:DAYLIGHT
BEGIN:STANDARD
TZOFFSETFROM:+0200
TZOFFSETTO:+0100
TZNAME:CET
DTSTART:20271031T010000
END:STANDARD
END:VTIMEZONE
BEGIN:VEVENT
DTSTART;TZID=Europe/Madrid:20260201T183000
DTEND;TZID=Europe/Madrid:20260201T183000
DTSTAMP:20260421T134147
CREATED:20260114T192013Z
LAST-MODIFIED:20260114T192013Z
UID:31009-1769970600-1769970600@www.lodosa.es
SUMMARY:SAN BLAS 2026 / TEATRO MUSICAL / ANTEM presenta 'Frozen'
DESCRIPTION:En el reino de Arendelle\, la recién coronada reina Elsa debe ocultar sus poderes de hielo\, capaces de desatar una tormenta eterna.\nCuando un incidente en su coronación revela su secreto y sume al reino en un invierno sin fin\, su hermana Anna emprende una aventura para encontrarla y traerla de regreso. Acompañada por el simpático Kristoff\, su reno Sven y el entrañable muñeco de nieve Olaf\, Anna se adentra en montañas y palacios de cristal donde el amor se redefine y el miedo se convierte en fuerza. \n\n\n\nCOMPRAR ENTRADAS
URL:https://www.lodosa.es/evento/san-blas-2026-teatro-musical-antem-presenta-frozen/
LOCATION:Auditorio [Casa de Cultura]\, Av. de la Ribera 41\, Lodosa\, Navarra\, 31580\, España
CATEGORIES:2026,Espectáculo,Infantil,Invierno,Musical,Para Todos los Públicos,San Blas,Teatro
ATTACH;FMTTYPE=image/jpeg:https://www.lodosa.es/wp-content/uploads/2026/01/FROZEN.jpg
ORGANIZER;CN="Ayuntamiento de Lodosa - Servicio de Cultura // CASA DE CULTURA":MAILTO:cultura@lodosa.es
END:VEVENT
BEGIN:VEVENT
DTSTART;TZID=Europe/Madrid:20260214T173000
DTEND;TZID=Europe/Madrid:20260214T203000
DTSTAMP:20260421T134147
CREATED:20260210T185012Z
LAST-MODIFIED:20260210T191702Z
UID:31156-1771090200-1771101000@www.lodosa.es
SUMMARY:CARNAVAL 2026
DESCRIPTION:17:30 / PASACALLES desde el PASEO\n\n\n18:15 / CHOCOLATADA PINTACARAS Y PHOTOCALL\n\n\n18:30 / DJ hasta las 20:00\n\n\n19:00 / entrega de PREMIOS\n\n\n20:00 / BINGO\n\n\nI CONCURSO DE DISFRACES\n 
URL:https://www.lodosa.es/evento/carnaval-2026/
LOCATION:Ayuntamiento de Lodosa (Porches)\, Ancha 1\, LODOSA\, Navarra\, 31580\, España
CATEGORIES:2026,Carnaval,Espectáculo,Familiar,Infantil,Invierno
ATTACH;FMTTYPE=image/jpeg:https://www.lodosa.es/wp-content/uploads/2026/02/Carnaval_2026-1.jpg
ORGANIZER;CN="Ayuntamiento de Lodosa - Comisi%C3%B3n de Festejos":MAILTO:festejos@lodosa.es
END:VEVENT
BEGIN:VEVENT
DTSTART;TZID=Europe/Madrid:20260215T190000
DTEND;TZID=Europe/Madrid:20260215T190000
DTSTAMP:20260421T134147
CREATED:20260201T094010Z
LAST-MODIFIED:20260201T094010Z
UID:31093-1771182000-1771182000@www.lodosa.es
SUMMARY:CINE / 'Flores para Antonio'
DESCRIPTION:(película documental) (98’)\nUna hija se dispone a buscar la verdad sobre quién fue su padre\, un músico legendario\, fallecido cuando ella tenía 8 años. Él es Antonio Flores\, ella la también célebre actriz Alba Flores. Alba dejó de cantar al perder a Antonio y ahora se dispone a recuperar su voz y su historia\, preguntando por primera vez a sus familiares y amigos. \n\n\n\nCOMPRAR ENTRADAS
URL:https://www.lodosa.es/evento/flores-para-antonio/
LOCATION:Auditorio [Casa de Cultura]\, Av. de la Ribera 41\, Lodosa\, Navarra\, 31580\, España
CATEGORIES:2026,Cine,Cultura,Familiar,Infantil,Invierno,Navidad
ATTACH;FMTTYPE=image/jpeg:https://www.lodosa.es/wp-content/uploads/2026/02/FloresParaAntonio.jpg
ORGANIZER;CN="Ayuntamiento de Lodosa - Servicio de Cultura // CASA DE CULTURA":MAILTO:cultura@lodosa.es
END:VEVENT
BEGIN:VEVENT
DTSTART;TZID=Europe/Madrid:20260222T183000
DTEND;TZID=Europe/Madrid:20260222T183000
DTSTAMP:20260421T134147
CREATED:20260201T131309Z
LAST-MODIFIED:20260201T131329Z
UID:31099-1771785000-1771785000@www.lodosa.es
SUMMARY:TEATRO INFANTIL / Producciones Maestras presenta 'AMARES\, amar los mares'
DESCRIPTION:En una tormentosa noche de invierno\, nos encontramos a la vieja pirata Pepa “The bottle” recordando sus largas travesías por los cinco continentes. Junto a su libro vital\, nos hará vivir las aventuras y desventuras de un pasado a bordo de su barco “El Ulises”. Con Pepa recordaremos cómo llegó hasta Japón\, cómo defendió a los animales en Lagos\, cómo viajó sobre las olas mecidas por Yemayá\, cómo bailó en Oceanía o cómo\, ya de vieja y revieja\, volvió a los acantilados escoceses que la vieron nacer.\nPepa crece ante nosotros\, pero nunca pierde su esencia: la de una pirata que ama los mares\, una defensora de la naturaleza y una capitana que nunca dejará de navegar hacia un lugar mejor. \n\n\n\nCOMPRAR ENTRADAS
URL:https://www.lodosa.es/evento/producciones-maestras-presenta-amares/
LOCATION:Auditorio [Casa de Cultura]\, Av. de la Ribera 41\, Lodosa\, Navarra\, 31580\, España
CATEGORIES:2026,Espectáculo,Infantil,Invierno,Para Todos los Públicos,San Blas,Teatro
ATTACH;FMTTYPE=image/jpeg:https://www.lodosa.es/wp-content/uploads/2026/02/Amares.jpg
ORGANIZER;CN="Ayuntamiento de Lodosa - Servicio de Cultura // CASA DE CULTURA":MAILTO:cultura@lodosa.es
END:VEVENT
BEGIN:VEVENT
DTSTART;TZID=Europe/Madrid:20260227T213000
DTEND;TZID=Europe/Madrid:20260227T213000
DTSTAMP:20260421T134147
CREATED:20260201T131724Z
LAST-MODIFIED:20260201T131724Z
UID:31102-1772227800-1772227800@www.lodosa.es
SUMMARY:CINE / 'La Cena'
DESCRIPTION:Duración (106’) \nDos semanas después de acabar la Guerra Civil\, Franco solicita una cena de celebración en el Hotel Palace. Un joven teniente\, un maître meticuloso y un grupo de prisioneros republicanos expertos en cocina\, deben preparar un banquete impecable en tiempo récord. Todo parece ir sobre ruedas\, pero en la cocina se trama algo más que un menú \n\n\n\nCOMPRAR ENTRADAS
URL:https://www.lodosa.es/evento/cine-la-cena/
LOCATION:Auditorio [Casa de Cultura]\, Av. de la Ribera 41\, Lodosa\, Navarra\, 31580\, España
CATEGORIES:2026,Cine,Cultura,Familiar,Infantil,Invierno,Navidad
ATTACH;FMTTYPE=image/jpeg:https://www.lodosa.es/wp-content/uploads/2026/02/LaCena.jpg
ORGANIZER;CN="Ayuntamiento de Lodosa - Servicio de Cultura // CASA DE CULTURA":MAILTO:cultura@lodosa.es
END:VEVENT
BEGIN:VEVENT
DTSTART;TZID=Europe/Madrid:20260228T183000
DTEND;TZID=Europe/Madrid:20260228T183000
DTSTAMP:20260421T134147
CREATED:20260214T101451Z
LAST-MODIFIED:20260214T101451Z
UID:31187-1772303400-1772303400@www.lodosa.es
SUMMARY:CARNAVAL / Concierto de la BML
DESCRIPTION:
URL:https://www.lodosa.es/evento/carnaval-concierto-de-la-bml/
LOCATION:Auditorio [Casa de Cultura]\, Av. de la Ribera 41\, Lodosa\, Navarra\, 31580\, España
CATEGORIES:2026,Carnaval,Conciertos,Invierno,Para Todos los Públicos
ATTACH;FMTTYPE=image/jpeg:https://www.lodosa.es/wp-content/uploads/2026/02/BML_Carnaval.jpg
END:VEVENT
END:VCALENDAR